BEGIN:VCALENDAR
VERSION:2.0
PRODID:-//ChamberMaster//Event Calendar 2.0//EN
METHOD:PUBLISH
X-PUBLISHED-TTL:P3D
REFRESH-INTERVAL:P3D
CALSCALE:GREGORIAN
BEGIN:VEVENT
DTSTART:20160605T180000Z
DTEND:20160605T220000Z
X-MICROSOFT-CDO-ALLDAYEVENT:FALSE
SUMMARY:Westridge Mall Jam
DESCRIPTION:Mall Jam at the Westridge Mall.
X-ALT-DESC;FMTTYPE=text/html:Mall Jam at the Westridge Mall.
LOCATION:2001 W. Lincoln Avenue
UID:e.314.32840
SEQUENCE:3
DTSTAMP:20260425T125248Z
URL:https://business.fergusfalls.com/events/details/westridge-mall-jam-06-05-2016-32840
END:VEVENT

END:VCALENDAR
