BEGIN:VCALENDAR
VERSION:2.0
PRODID:-//ChamberMaster//Event Calendar 2.0//EN
METHOD:PUBLISH
X-PUBLISHED-TTL:P3D
REFRESH-INTERVAL:P3D
CALSCALE:GREGORIAN
BEGIN:VEVENT
DTSTART;VALUE=DATE:20190425
DTEND;VALUE=DATE:20190502
TRANSP:TRANSPARENT
X-MICROSOFT-CDO-ALLDAYEVENT:TRUE
SUMMARY:Westridge Theatre
DESCRIPTION:Westridge Theatre - CEC (Mall)  \n\nApril 27th - May 1st \n\n	PG 13 Avengers 12:15 4:00 7:30 \n	PG 13 Avengers 1:00 5:00 8:45\n	PG 13 Shazam 1:00 4:10 7:00 9:40 \n	PG Breakthrough 12:45 4:30 7:05 9:30\n	PG 13 Avengers 12:00 3:30 7:00
X-ALT-DESC;FMTTYPE=text/html:<strong>Westridge Theatre - CEC (Mall) &nbsp\;<br />\nApril 27th - May&nbsp\;1st </strong>\n<ul>\n	<li><strong>PG 13 Avengers </strong>12:15 4:00 7:30&nbsp\;</li>\n	<li><strong>PG 13 Avengers </strong>1:00 5:00 8:45</li>\n	<li><strong>PG 13 Shazam </strong>1:00 4:10 7:00 9:40&nbsp\;</li>\n	<li><strong>PG Breakthrough </strong>12:45 4:30 7:05 9:30</li>\n	<li><strong>PG 13 Avengers </strong>12:00 3:30 7:00</li>\n</ul>\n
LOCATION:
UID:e.314.53882
SEQUENCE:3
DTSTAMP:20260423T062849Z
URL:https://business.fergusfalls.com/events/details/westridge-theatre-53882
END:VEVENT

END:VCALENDAR
