BEGIN:VCALENDAR
VERSION:2.0
PRODID:-//ChamberMaster//Event Calendar 2.0//EN
METHOD:PUBLISH
X-PUBLISHED-TTL:P3D
REFRESH-INTERVAL:P3D
CALSCALE:GREGORIAN
BEGIN:VEVENT
DTSTART:20160629T150000Z
DTEND:20160629T170000Z
X-MICROSOFT-CDO-ALLDAYEVENT:FALSE
SUMMARY:Westridge Theatre Wed $2.00 Summer Special
DESCRIPTION:Westridge Theatre Summer Specials\n\nWednesdays All Tickets $2.00
X-ALT-DESC;FMTTYPE=text/html:<strong>Westridge Theatre Summer Specials<br>\nWednesdays All Tickets $2.00&nbsp\;</strong>&nbsp\;<br>\n&nbsp\;
LOCATION:Westridge C.E.C. Theatres (Entrance Located Back of Westridge Mall ) 2001 Lincoln Ave. W. Suite 21 Fergus Falls\,
UID:e.314.32888
SEQUENCE:3
DTSTAMP:20260425T145925Z
URL:https://business.fergusfalls.com/events/details/westridge-theatre-wed-2-00-summer-special-06-29-2016-32888
END:VEVENT

END:VCALENDAR
