BEGIN:VCALENDAR
VERSION:2.0
PRODID:-//ChamberMaster//Event Calendar 2.0//EN
METHOD:PUBLISH
X-PUBLISHED-TTL:P3D
REFRESH-INTERVAL:P3D
CALSCALE:GREGORIAN
BEGIN:VEVENT
DTSTART:20151124T140000Z
DTEND:20151125T010000Z
X-MICROSOFT-CDO-ALLDAYEVENT:FALSE
SUMMARY:White Wednesday At The Market!
DESCRIPTION:White Wednesday Sale!\n\nWho needs Black Friday when we have White Wednesday!\n\nStop by for Great Savings!\n\nStumbeano's Coffee Tasting from 10-12pm.\n\nTerrior Chocolate Tasting from 3-6pm.
X-ALT-DESC;FMTTYPE=text/html:<span style="font-size: 18px\;"><span style="color: rgb(75\, 0\, 130)\;"><strong><span style="font-family: helvetica\,arial\,sans-serif\;">White Wednesday Sale!</span><br />\nWho needs Black Friday when we have White Wednesday!<br />\n<span style="font-family: helvetica\,arial\,sans-serif\;">Stop by for Great Savings!</span><br />\n<span style="font-family: helvetica\,arial\,sans-serif\;">Stumbeano&#39\;s Coffee Tasting from 10-12pm.</span><br />\n<span style="font-family: helvetica\,arial\,sans-serif\;">Terrior Chocolate Tasting from 3-6pm.</span></strong></span></span>
LOCATION:120 S Union Ave\, Fergus Falls\, Mn
UID:e.314.27363
SEQUENCE:3
DTSTAMP:20260426T011553Z
URL:https://business.fergusfalls.com/events/details/white-wednesday-at-the-market-11-24-2015-27363
END:VEVENT

END:VCALENDAR
