BEGIN:VCALENDAR
VERSION:2.0
PRODID:-//ChamberMaster//Event Calendar 2.0//EN
METHOD:PUBLISH
X-PUBLISHED-TTL:P3D
REFRESH-INTERVAL:P3D
CALSCALE:GREGORIAN
BEGIN:VEVENT
DTSTART:20151125T140000Z
DTEND:20151126T010000Z
X-MICROSOFT-CDO-ALLDAYEVENT:FALSE
SUMMARY:White Wednesday Sale @ The Market
DESCRIPTION:Who needs Black Friday when The Market has WHITE WEDNESDAY?!?\n\nTOMORROW is our White Wednesday Sale!\n\nStop by for Great Savings!\n\nStumbeano's Coffee Tasting from 10-12pm.\n\nTerrior Chocolate Tasting from 3-6pm.\n\n*Some restrictions may apply
X-ALT-DESC;FMTTYPE=text/html:<span class="fsl">Who needs Black Friday when The Market has WHITE WEDNESDAY?!?</span><br />\nTOMORROW is our White Wednesday Sale!<br />\nStop by for Great Savings!<br />\nStumbeano&#39\;s Coffee Tasting from 10-12pm.<br />\nTerrior Chocolate Tasting from 3-6pm.<br />\n*<span style="font-size: 8px\;"><em>Some restrictions may apply</em></span>
LOCATION:The Market 120 S Union Ave Fergus Falls
UID:e.314.27362
SEQUENCE:3
DTSTAMP:20260426T011849Z
URL:https://business.fergusfalls.com/events/details/white-wednesday-sale-the-market-11-25-2015-27362
END:VEVENT

END:VCALENDAR
