BEGIN:VCALENDAR
VERSION:2.0
PRODID:-//ChamberMaster//Event Calendar 2.0//EN
METHOD:PUBLISH
X-PUBLISHED-TTL:P3D
REFRESH-INTERVAL:P3D
CALSCALE:GREGORIAN
BEGIN:VEVENT
DTSTART:20200505T123000Z
DTEND:20200505T130000Z
X-MICROSOFT-CDO-ALLDAYEVENT:FALSE
SUMMARY:Why Google Is More Important Than Your Website
DESCRIPTION:Looking to attract new customers? With over 90% of web searches taking place on Google\, it has never been more important to have a complete My Business profile on Google. This webinar will provide you with the tools you need to out perform your competitors on Google\, including 5 easy steps you can take today to claim your business page and begin competing for valuable leads. We will also talk about the importance of 5-star customer reviews\, photos\, and show how a virtual tour can help you seal the deal with your next potential customer. \n\n\n\nThis is a joint event hosted by Greater Fergus Falls\, Chamber of Commerce\, Visit Fergus Falls\, and the Downtown Riverfront Council. The material will be presented by Andrew Yaggie.
X-ALT-DESC;FMTTYPE=text/html:<span style="color: rgb(29\, 33\, 41)\; font-family: Helvetica\, Arial\, sans-serif\; font-size: 14px\; white-space: pre-wrap\;">Looking to attract new customers? With over 90% of web searches taking place on Google\, it has never been more important to have a complete My Business profile on Google. This webinar will provide you with the tools you need to out perform your competitors on Google\, including 5 easy steps you can take today to claim your business page and begin competing for valuable leads. We will also talk about the importance of 5-star customer reviews\, photos\, and show how a virtual tour can help you seal the deal with your next potential customer. </span><br style="color: rgb(29\, 33\, 41)\; font-family: Helvetica\, Arial\, sans-serif\; font-size: 14px\; white-space: pre-wrap\;" />\n<br style="color: rgb(29\, 33\, 41)\; font-family: Helvetica\, Arial\, sans-serif\; font-size: 14px\; white-space: pre-wrap\;" />\n<span style="color: rgb(29\, 33\, 41)\; font-family: Helvetica\, Arial\, sans-serif\; font-size: 14px\; white-space: pre-wrap\;">This is a joint event hosted by Greater Fergus Falls\, Chamber of Commerce\, Visit Fergus Falls\, and the Downtown Riverfront Council. The material will be presented by Andrew Yaggie.</span><br style="color: rgb(29\, 33\, 41)\; font-family: Helvetica\, Arial\, sans-serif\; font-size: 14px\; white-space: pre-wrap\;" />\n<span style="color: rgb(29\, 33\, 41)\; font-family: Helvetica\, Arial\, sans-serif\; font-size: 14px\; white-space: pre-wrap\;">&#9472\;&#9472\;&#9472\;&#9472\;&#9472\;&#9472\;&#9472\;&#9472\;&#9472\;&#9472\;</span>
LOCATION:Join Zoom Meeting https://us02web.zoom.us/j/82919046062?pwd=TzY2NG1qeUFiN3QyeGZKTStzQWxPZz09 Meeting ID: 829 1904 6062 Password: GFF One tap mobile +13126266799\,\,82919046062#\,\,1#\,375169#
UID:e.314.57414
SEQUENCE:3
DTSTAMP:20260422T095309Z
URL:https://business.fergusfalls.com/events/details/why-google-is-more-important-than-your-website-57414
END:VEVENT

END:VCALENDAR
