BEGIN:VCALENDAR
VERSION:2.0
PRODID:-//ChamberMaster//Event Calendar 2.0//EN
METHOD:PUBLISH
X-PUBLISHED-TTL:P3D
REFRESH-INTERVAL:P3D
CALSCALE:GREGORIAN
BEGIN:VEVENT
DTSTART:20221015T140000Z
DTEND:20221015T200000Z
X-MICROSOFT-CDO-ALLDAYEVENT:FALSE
SUMMARY:Wild Wild West Cub Scout Fall Day Camp
DESCRIPTION:2022 Theme: Wild\, Wild West! These camps are for registered Cub Scouts entering grades 1-5 in fall 2022. Once again we will have an Open Schedule so if you can't stay from the start time all the way until the end time   that's ok. There is no set schedule\, so arrive and leave when you need to. Cub Scouts and parents can do the activities in any order they choose. With the exception of crafts\, Cub Scouts can do each activity as many times as they want.
X-ALT-DESC;FMTTYPE=text/html:2022 Theme: Wild\, Wild West! These camps are for registered Cub Scouts entering grades 1-5 in fall 2022. Once again we will have an Open Schedule so if you can&rsquo\;t stay from the start time all the way until the end time &ndash\; that&rsquo\;s ok. There is no set schedule\, so arrive and leave when you need to. Cub Scouts and parents can do the activities in any order they choose. With the exception of crafts\, Cub Scouts can do each activity as many times as they want.
LOCATION:Family Community Center - Breckenridge
UID:e.314.67227
SEQUENCE:3
DTSTAMP:20260421T100752Z
URL:https://business.fergusfalls.com/events/details/wild-wild-west-cub-scout-fall-day-camp-67227
END:VEVENT

END:VCALENDAR
