BEGIN:VCALENDAR
VERSION:2.0
PRODID:-//ChamberMaster//Event Calendar 2.0//EN
METHOD:PUBLISH
X-PUBLISHED-TTL:P3D
REFRESH-INTERVAL:P3D
CALSCALE:GREGORIAN
BEGIN:VEVENT
DTSTART:20151003T000000Z
DTEND:20151003T020000Z
X-MICROSOFT-CDO-ALLDAYEVENT:FALSE
SUMMARY:Wine and Paint
DESCRIPTION:Wine and Paint\n\n\n\nWe are ready to get this Fall started the right way! Please join us for another incredible evening of painting and wine (or beverage of your choice). Our hosts for the evening will provide everything you need to paint a masterpiece\, while enjoying our cash bar. Tickets are only $35 and include one free beverage of your choice! We have limited seating for this event too\, so call 218-739-2211 now to reserve your seats! Come before the show to the Z103 for dinner and refreshments or order appetizers during the event.
X-ALT-DESC;FMTTYPE=text/html:<span class="title" style="color: rgb(41\, 82\, 163)\;">Wine and Paint</span><br />\n<br />\nWe are ready to get this Fall started the right way! Please join us for another incredible evening of painting and wine (or beverage of your choice). Our hosts for the evening will provide everything you need to paint a masterpiece\, while enjoying our cash bar. Tickets are only $35 and include one free beverage of your choice! We have limited seating for this event too\, so call 218-739-2211 now to reserve your seats! Come before the show to the Z103 for dinner and refreshments or order appetizers during the event.
LOCATION:Bigwood Event Center 925 Western Avenue Fergus Falls\,
UID:e.314.24218
SEQUENCE:3
DTSTAMP:20260426T025824Z
URL:https://business.fergusfalls.com/events/details/wine-and-paint-10-02-2015-24218
END:VEVENT

END:VCALENDAR
