BEGIN:VCALENDAR
VERSION:2.0
PRODID:-//ChamberMaster//Event Calendar 2.0//EN
METHOD:PUBLISH
X-PUBLISHED-TTL:P3D
REFRESH-INTERVAL:P3D
CALSCALE:GREGORIAN
BEGIN:VEVENT
DTSTART:20170222T000000Z
DTEND:20170222T020000Z
X-MICROSOFT-CDO-ALLDAYEVENT:FALSE
SUMMARY:Wine Education\, Tasting\, and Food Pairing Event
DESCRIPTION:Bello Cucina\n\nWine Education\, Tasting and Food Pairing Event\n\nFebruary 21\, 2017 6:00 pm\n\n \n\n	Luna di Luna Chardonnay/Pinot Grigio and Boulder Bank Sauvignon Blanc paired with Tuna Nann\n	Hahn SLH Chardonnay and Pinnacoli Primitivo pairedwith Linguini di Bosco\n	Chateau Puech Haut Rouge and The Crusher Petite Sirah paired with Mushroom Gouda Sirloin\n	Red Fire Zinfandel paired with Ebony and Ivory dessert\n\n\n\n$25.00/Ticket\n\nTickets must be purchased in advance
X-ALT-DESC;FMTTYPE=text/html:<strong>Bello Cucina<br />\nWine Education\, Tasting and Food Pairing Event<br />\nFebruary 21\, 2017 6:00 pm</strong><br />\n&nbsp\;\n<ul>\n	<li>Luna di Luna Chardonnay/Pinot Grigio and Boulder Bank Sauvignon Blanc paired with Tuna Nann</li>\n	<li>Hahn SLH Chardonnay and Pinnacoli Primitivo pairedwith Linguini di Bosco</li>\n	<li>Chateau Puech Haut Rouge and The Crusher Petite Sirah paired with Mushroom Gouda Sirloin</li>\n	<li>Red Fire Zinfandel paired with Ebony and Ivory dessert</li>\n</ul>\n<br />\n<strong>$25.00/Ticket<br />\nTickets must be purchased in advance</strong>
LOCATION:Bello Cucina106 W Lincoln Ave Fergus Falls\, MN 56537 (218) 998-2221
UID:e.314.38694
SEQUENCE:3
DTSTAMP:20260424T225359Z
URL:https://business.fergusfalls.com/events/details/wine-education-tasting-and-food-pairing-event-38694
END:VEVENT

END:VCALENDAR
