BEGIN:VCALENDAR
VERSION:2.0
PRODID:-//ChamberMaster//Event Calendar 2.0//EN
METHOD:PUBLISH
X-PUBLISHED-TTL:P3D
REFRESH-INTERVAL:P3D
CALSCALE:GREGORIAN
BEGIN:VEVENT
DTSTART:20190509T230000Z
DTEND:20190510T020000Z
X-MICROSOFT-CDO-ALLDAYEVENT:FALSE
SUMMARY:Wine Knot - Ladies Event
DESCRIPTION:WINE KNOT - FERGUS FALLS\n\nMay 9\, 2019 THURSDAY 6:00 PM\n\nBigwood Event Center\n\n\n\nWine Knot is an evening for ladies to enjoy unlimited wine samples\, hors d'oeuvres\, gourmet chololate\, and best of all... the chance to walk away with designer courure shoes or precious gemestone jewelery! So... Wine Knot join us?! ALL TICKET SALES ARE FINAL - NO REFUNDS
X-ALT-DESC;FMTTYPE=text/html:<p class="hide-on-small-only" style="padding-top: 10px\; padding-left: 10px\;"><span style="color: rgb(128\, 0\, 128)\;"><strong><span class="title"><span class="mainTitle">WINE KNOT - FERGUS FALLS</span></span></strong></span></p>\n\n<p><strong><span class="smallLine"><span>May 9\, 2019<span class="hide-on-small-only"> THURSDAY</span> </span><span class="timeText">6:00 PM</span></span><br />\n<span class="venue-name smallLine-info hide-on-med-and-down">Bigwood Event Center</span></strong></p>\n\n<p class="hide-on-small-only" style="padding-top: 10px\; padding-left: 10px\;"><br />\nWine Knot is an evening for ladies to enjoy unlimited wine samples\, hors d&#39\;oeuvres\, gourmet chololate\, and best of all... the chance to walk away with designer courure shoes or precious gemestone jewelery! So... Wine Knot join us?! ALL TICKET SALES ARE FINAL - NO REFUNDS</p>\n
LOCATION:
UID:e.314.53885
SEQUENCE:3
DTSTAMP:20260423T050338Z
URL:https://business.fergusfalls.com/events/details/wine-knot-ladies-event-53885
END:VEVENT

END:VCALENDAR
