BEGIN:VCALENDAR
VERSION:2.0
PRODID:-//ChamberMaster//Event Calendar 2.0//EN
METHOD:PUBLISH
X-PUBLISHED-TTL:P3D
REFRESH-INTERVAL:P3D
CALSCALE:GREGORIAN
BEGIN:VEVENT
DTSTART;VALUE=DATE:20160225
DTEND;VALUE=DATE:20160228
TRANSP:TRANSPARENT
X-MICROSOFT-CDO-ALLDAYEVENT:TRUE
SUMMARY:Winter Blowout Sale
DESCRIPTION:Winter Blowout Sale\n\nAll winter apparel and accessories\n\nThursday: 1st item 50% OFF\, each additional item 40% OFF\n\nFriday & Saturday: 1st item 30% OFF\, each additional item 40% OFF
X-ALT-DESC;FMTTYPE=text/html:Winter Blowout Sale<br />\nAll winter apparel and accessories<br />\nThursday: 1st item 50% OFF\, each additional item 40% OFF<br />\nFriday &amp\; Saturday: 1st item 30% OFF\, each additional item 40% OFF
LOCATION:HD Boutique 216 W Lincoln Ave Fergus Falls\, MN 56537 hdboutiquestore.com 218-998-4343
UID:e.314.31680
SEQUENCE:3
DTSTAMP:20260425T201124Z
URL:https://business.fergusfalls.com/events/details/winter-blowout-sale-02-25-2016-31680
END:VEVENT

END:VCALENDAR
