BEGIN:VCALENDAR
VERSION:2.0
PRODID:-//ChamberMaster//Event Calendar 2.0//EN
METHOD:PUBLISH
X-PUBLISHED-TTL:P3D
REFRESH-INTERVAL:P3D
CALSCALE:GREGORIAN
BEGIN:VEVENT
DTSTART:20190126T160000Z
DTEND:20190126T200000Z
X-MICROSOFT-CDO-ALLDAYEVENT:FALSE
SUMMARY:Winter Farmers Market
DESCRIPTION:7-10 vendors offering locally crafted wood products\, farm fresh eggs\, honey\, jams & jellies\, squash\, apples\, pickles\, krumkaka\, and a delicious variety of baked goodies. Stock up for yourself or unique Christmas gifts.
X-ALT-DESC;FMTTYPE=text/html:7-10 vendors offering locally crafted wood products\, farm fresh eggs\, honey\, jams &amp\; jellies\, squash\, apples\, pickles\, krumkaka\, and a delicious variety of baked goodies. Stock up for yourself or unique Christmas gifts.
LOCATION:Beautiful downtown Fergus Falls in the Riverfront Square\, next to City Bakery.
UID:e.314.51984
SEQUENCE:3
DTSTAMP:20260423T110119Z
URL:https://business.fergusfalls.com/events/details/winter-farmers-market-01-26-2019-51984
END:VEVENT

END:VCALENDAR
