BEGIN:VCALENDAR
VERSION:2.0
PRODID:-//ChamberMaster//Event Calendar 2.0//EN
METHOD:PUBLISH
X-PUBLISHED-TTL:P3D
REFRESH-INTERVAL:P3D
CALSCALE:GREGORIAN
BEGIN:VEVENT
DTSTART:20171118T150000Z
DTEND:20171118T190000Z
X-MICROSOFT-CDO-ALLDAYEVENT:FALSE
SUMMARY:Winter Farmers Market
DESCRIPTION:Local handcrafted products\, specialty items\, root crops such as potatoes\, carrots and squash produced by your neighbors. Wonderful canned and baked goodies! Join us at the Market for a free cup of coffee and yummy baked goods while you visit with your new and old friends.
X-ALT-DESC;FMTTYPE=text/html:Local handcrafted products\, specialty items\, root crops such as potatoes\, carrots and squash produced by your neighbors. Wonderful canned and baked goodies! Join us at the Market for a free cup of coffee and yummy baked goods while you visit with your new and old friends.
LOCATION:Located on West Lincoln Avenue across from the OTC Museum\, next to Papa Murphy's.
UID:e.314.43048
SEQUENCE:3
DTSTAMP:20260424T075212Z
URL:https://business.fergusfalls.com/events/details/winter-farmers-market-11-18-2017-43048
END:VEVENT

END:VCALENDAR
