BEGIN:VCALENDAR
VERSION:2.0
PRODID:-//ChamberMaster//Event Calendar 2.0//EN
METHOD:PUBLISH
X-PUBLISHED-TTL:P3D
REFRESH-INTERVAL:P3D
CALSCALE:GREGORIAN
BEGIN:VEVENT
DTSTART:20171122T200000Z
DTEND:20171122T233000Z
X-MICROSOFT-CDO-ALLDAYEVENT:FALSE
SUMMARY:Winter Farmers Market
DESCRIPTION:Weekly Winter Farmers Market located across from the Museum on Lincoln Avenue West in the strip mall\, next to Papa Murphy's. The hours at 2 pm to 5:30 pm. All your favorite vendors are offering squash\, carrots\, potatoes\, handcrafted products\, specialty items\, baked and canned goodies. Join us for a yummy home-made snack with a free cup of coffee and visit with friends and our sellers.
X-ALT-DESC;FMTTYPE=text/html:Weekly Winter Farmers Market located across from the Museum on Lincoln Avenue West in the strip mall\, next to Papa Murphy&#39\;s. The hours at 2 pm to 5:30 pm. All your favorite vendors are offering squash\, carrots\, potatoes\, handcrafted products\, specialty items\, baked and canned goodies. Join us for a yummy home-made snack with a free cup of coffee and visit with friends and our sellers.
LOCATION:next to Papa Murphy's across from the OTC Museum.
UID:e.314.43045
SEQUENCE:3
DTSTAMP:20260424T092144Z
URL:https://business.fergusfalls.com/events/details/winter-farmers-market-11-22-2017-43045
END:VEVENT

END:VCALENDAR
