BEGIN:VCALENDAR
VERSION:2.0
PRODID:-//ChamberMaster//Event Calendar 2.0//EN
METHOD:PUBLISH
X-PUBLISHED-TTL:P3D
REFRESH-INTERVAL:P3D
CALSCALE:GREGORIAN
BEGIN:VEVENT
DTSTART:20191123T160000Z
DTEND:20191123T200000Z
X-MICROSOFT-CDO-ALLDAYEVENT:FALSE
SUMMARY:Winter Farmers Market 2019-20
DESCRIPTION:The Farmers Market will move inside starting Wednesday\, October 30\, 2019 and run every Wednesday afternoon and Saturday morning through January.
X-ALT-DESC;FMTTYPE=text/html:The Farmers Market will move inside starting Wednesday\, October 30\, 2019 and run every Wednesday afternoon and Saturday morning through January.
LOCATION:Across West Lincoln Avenue from the Museum next to Papa Murphy's.
UID:e.314.55697
SEQUENCE:3
DTSTAMP:20260422T203019Z
URL:https://business.fergusfalls.com/events/details/winter-farmers-market-2019-20-11-23-2019-55697
END:VEVENT

END:VCALENDAR
