BEGIN:VCALENDAR
VERSION:2.0
PRODID:-//ChamberMaster//Event Calendar 2.0//EN
METHOD:PUBLISH
X-PUBLISHED-TTL:P3D
REFRESH-INTERVAL:P3D
CALSCALE:GREGORIAN
BEGIN:VEVENT
DTSTART:20200126T200000Z
DTEND:20200126T220000Z
X-MICROSOFT-CDO-ALLDAYEVENT:FALSE
SUMMARY:Winter Karnival - 2020 Noon Kiwanis
DESCRIPTION:Ice skating\, horse and carriage rides\, petting zoo\, bonfires\, ice golfing\, cross country skiing\, hot chocolate\, cookies\, and more! Due to limited parking\, there will be a shuttle bus running continuously from the Armory parking lot from 1:45-4:15.
X-ALT-DESC;FMTTYPE=text/html:<span>Ice skating\, horse and carriage rides\, petting zoo\, bonfires\, ice golfing\, cross country skiing\, hot chocolate\, cookies\, and more! Due to limited parking\, there will be a shuttle bus running continuously from the Armory parking lot from 1:45-4:15.</span>
LOCATION:Noon Kiwanis Lake Alice Ice Skating Lake Alice S Lakeside Dr\, Fergus Falls\, Minnesota 56537
UID:e.314.56028
SEQUENCE:3
DTSTAMP:20260422T172058Z
URL:https://business.fergusfalls.com/events/details/winter-karnival-2020-noon-kiwanis-56028
END:VEVENT

END:VCALENDAR
