BEGIN:VCALENDAR
VERSION:2.0
PRODID:-//ChamberMaster//Event Calendar 2.0//EN
METHOD:PUBLISH
X-PUBLISHED-TTL:P3D
REFRESH-INTERVAL:P3D
CALSCALE:GREGORIAN
BEGIN:VEVENT
DTSTART:20170201T140000Z
DTEND:20170202T020000Z
X-MICROSOFT-CDO-ALLDAYEVENT:FALSE
SUMMARY:Winter Walk Day
DESCRIPTION:The 10th anniversary of Winter Walk Day is Feb. 1\, 2017 and this year Minnesota is in for the celebration. Just go for a walk for outside for at least 15 minutes.
X-ALT-DESC;FMTTYPE=text/html:The 10th anniversary of Winter Walk Day is Feb. 1\, 2017 and this year Minnesota is in for the celebration. Just go for a walk for outside for at least 15 minutes.
LOCATION:
UID:e.314.38276
SEQUENCE:3
DTSTAMP:20260424T224652Z
URL:https://business.fergusfalls.com/events/details/winter-walk-day-38276
END:VEVENT

END:VCALENDAR
