BEGIN:VCALENDAR
VERSION:2.0
PRODID:-//ChamberMaster//Event Calendar 2.0//EN
METHOD:PUBLISH
X-PUBLISHED-TTL:P3D
REFRESH-INTERVAL:P3D
CALSCALE:GREGORIAN
BEGIN:VEVENT
DTSTART:20210914T230000Z
DTEND:20210919T040000Z
X-MICROSOFT-CDO-ALLDAYEVENT:FALSE
SUMMARY:WISSOTA 100 2021 @ I-94 Sure Step Speedway
DESCRIPTION:The WISSOTA 100 is the premier Dirt Track Racing event in the upper Midwest. You'll be surrounded by non-stop action with some of the nation's fastest drivers and cars. With over 100 races across 8 divisions\, the WISSOTA 100 is a can't miss event.\n\n\n\nEvent Classes\nWISSOTA Late Model\, WISSOTA Midwest Mods\, WISSOTA Modifieds\, WISSOTA Street Stock\, WISSOTA Hornet\, WISSOTA Mod Four\, WISSOTA Pure Stock\, WISSOTA Super Stock
X-ALT-DESC;FMTTYPE=text/html:<div class="_63ew" data-testid="event-permalink-details"><span>The WISSOTA 100 is the premier Dirt Track Racing event in the upper Midwest. You&rsquo\;ll be surrounded by non-stop action with some of the nation&rsquo\;s fastest drivers and cars. With over 100 races across 8 divisions\, the WISSOTA 100 is a can&rsquo\;t miss event.</span><br />\n<br />\n<strong style="margin: 0px\; padding: 0px\; border: 0px\; outline: 0px\; font-family: Tahoma\; vertical-align: baseline\; color: rgb(0\, 0\, 0)\; font-size: 12px\;">Event Classes</strong>\n<div class="eventInfo" style="margin: 0px\; padding: 0px\; border: 0px\; outline: 0px\; font-family: Tahoma\; vertical-align: baseline\; color: rgb(0\, 0\, 0)\; font-size: 12px\;">WISSOTA Late Model\, WISSOTA Midwest Mods\, WISSOTA Modifieds\, WISSOTA Street Stock\, WISSOTA Hornet\, WISSOTA Mod Four\, WISSOTA Pure Stock\, WISSOTA Super Stock</div>\n</div>\n
LOCATION:I-94 Super Step Speedway Fergus Falls 2001 W Fir Ave\, Fergus Falls\, Minnesota 56537
UID:e.314.57563
SEQUENCE:3
DTSTAMP:20260421T083925Z
URL:https://business.fergusfalls.com/events/details/wissota-100-2021-i-94-sure-step-speedway-57563
END:VEVENT

END:VCALENDAR
