BEGIN:VCALENDAR
VERSION:2.0
PRODID:-//ChamberMaster//Event Calendar 2.0//EN
METHOD:PUBLISH
X-PUBLISHED-TTL:P3D
REFRESH-INTERVAL:P3D
CALSCALE:GREGORIAN
BEGIN:VEVENT
DTSTART:20160614T230000Z
DTEND:20160615T003000Z
X-MICROSOFT-CDO-ALLDAYEVENT:FALSE
SUMMARY:WIZARD OF OZ Sing-a-long & Costume Parade
DESCRIPTION:WIZARD OF OZ Sing-a-long & Costume Parade\n\nThe Fergus Falls Public Library will be hosting a Costume Parade and WIZARD OF OZ Sing-a-long at A Center for the Arts. Contact the Library for more information.\n\n\n	\n		\n			When\n			Tue Jun 14\, 2016 6pm   7:30pm
X-ALT-DESC;FMTTYPE=text/html:<h3 style="color: rgb(34\, 34\, 34)\; font-family: Arial\, sans-serif\; padding: 0px 0px 6px\; margin: 0px\; font-size: 16px\;"><span itemprop="name">WIZARD OF OZ Sing-a-long &amp\; Costume Parade</span></h3>\n\n<div style="color: rgb(34\, 34\, 34)\; font-family: Arial\, sans-serif\; font-size: 13px\; padding-bottom: 15px\; word-wrap: break-word\; white-space: pre-wrap !important\;">The Fergus Falls Public Library will be hosting a Costume Parade and WIZARD OF OZ Sing-a-long at A Center for the Arts. Contact the Library for more information.</div>\n\n<table border="0" cellpadding="0" cellspacing="0" style="font-family: Arial\, sans-serif\;" summary="Event details">\n	<tbody>\n		<tr>\n			<td style="padding: 0px 1em 10px 0px\; font-size: 13px\; color: rgb(136\, 136\, 136)\; white-space: nowrap\;" valign="top">When</td>\n			<td style="padding-bottom: 10px\; font-size: 13px\; color: rgb(34\, 34\, 34)\;" valign="top">Tue Jun 14\, 2016 6pm &ndash\; 7:30pm</td>\n		</tr>\n	</tbody>\n</table>\n
LOCATION:
UID:e.314.32703
SEQUENCE:3
DTSTAMP:20260425T130928Z
URL:https://business.fergusfalls.com/events/details/wizard-of-oz-sing-a-long-costume-parade-06-14-2016-32703
END:VEVENT

END:VCALENDAR
