BEGIN:VCALENDAR
VERSION:2.0
PRODID:-//ChamberMaster//Event Calendar 2.0//EN
METHOD:PUBLISH
X-PUBLISHED-TTL:P3D
REFRESH-INTERVAL:P3D
CALSCALE:GREGORIAN
BEGIN:VEVENT
DTSTART;VALUE=DATE:20160716
DTEND;VALUE=DATE:20160717
TRANSP:TRANSPARENT
X-MICROSOFT-CDO-ALLDAYEVENT:TRUE
SUMMARY:Women's Ministries Convention - Bethel Lutheran Church
DESCRIPTION:Bethel Lutheran Church is hosting a 2016 Women's Ministries Convention. \n\n\n\nSpecial Guest Mary Beth Carlson\, composer\, recording artist\, author\, inspirational speaker and former Teacher of the Year\, performs nationally as a pianist and speaker for a wide variety of special events. As Lead Pianist at Nordstrom Mall of America for nearly 15 years\, she managed piano entertainment for most of those years.\n\n\n\nWorkshops:\n\n"Mirroring the Mission Heart of God" Presenter: Sue Olson \n\n\n\n"Winsome Warriors: Taking God's Love to the Spiritual Battlefield of our Time" Presenter: Carolyn McElfatrick\n\n\n\n"He Sows and She Sews" Presenter: Gretchen Ronnevik\n\n\n\n"God's Heart for the Disabled in East Asia" - Presenter: Elizabeth Christenson\n\n\n\nVisit the WMCLB website for more information and to register\n\nwww.wmclb.com/annual-womens-event.html
X-ALT-DESC;FMTTYPE=text/html:<span style="color: rgb(75\, 79\, 86)\; font-family: helvetica\, arial\, sans-serif\; font-size: 14px\; line-height: 18.76px\;">Bethel Lutheran Church is hosting a 2016 Women&#39\;s Ministries Convention.&nbsp\;<br />\n<br />\nSpecial Guest Mary Beth Carlson\, composer\, recording artist\, author\, inspirational speaker and former Teacher of the Year\, performs nationally as a pianist and speaker for a wide variety of special events. As Lead Pianist at Nordstrom Mall of America for nearly 15 years\, she managed piano entertainment for most of those years.</span><br style="color: rgb(75\, 79\, 86)\; font-family: helvetica\, arial\, sans-serif\; font-size: 14px\; line-height: 18.76px\;" />\n<br style="color: rgb(75\, 79\, 86)\; font-family: helvetica\, arial\, sans-serif\; font-size: 14px\; line-height: 18.76px\;" />\n<span style="color: rgb(75\, 79\, 86)\; font-family: helvetica\, arial\, sans-serif\; font-size: 14px\; line-height: 18.76px\;">Workshops:</span><br style="color: rgb(75\, 79\, 86)\; font-family: helvetica\, arial\, sans-serif\; font-size: 14px\; line-height: 18.76px\;" />\n<span style="color: rgb(75\, 79\, 86)\; font-family: helvetica\, arial\, sans-serif\; font-size: 14px\; line-height: 18.76px\;">&ldquo\;Mirroring the Mission Heart of God&rdquo\; Presenter: Sue Olson&nbsp\;</span><br style="color: rgb(75\, 79\, 86)\; font-family: helvetica\, arial\, sans-serif\; font-size: 14px\; line-height: 18.76px\;" />\n<br style="color: rgb(75\, 79\, 86)\; font-family: helvetica\, arial\, sans-serif\; font-size: 14px\; line-height: 18.76px\;" />\n<span style="color: rgb(75\, 79\, 86)\; font-family: helvetica\, arial\, sans-serif\; font-size: 14px\; line-height: 18.76px\;">&ldquo\;Winsome Warriors: Taking God&rsquo\;s Love to the Spiritual Battlefield of our Time&rdquo\; Presenter: Carolyn McElfatrick</span><br style="color: rgb(75\, 79\, 86)\; font-family: helvetica\, arial\, sans-serif\; font-size: 14px\; line-height: 18.76px\;" />\n<br style="color: rgb(75\, 79\, 86)\; font-family: helvetica\, arial\, sans-serif\; font-size: 14px\; line-height: 18.76px\;" />\n<span style="color: rgb(75\, 79\, 86)\; font-family: helvetica\, arial\, sans-serif\; font-size: 14px\; line-height: 18.76px\;">&ldquo\;He Sows and She Sews&rdquo\; Presenter: Gretchen Ronnevik</span><br style="color: rgb(75\, 79\, 86)\; font-family: helvetica\, arial\, sans-serif\; font-size: 14px\; line-height: 18.76px\;" />\n<br style="color: rgb(75\, 79\, 86)\; font-family: helvetica\, arial\, sans-serif\; font-size: 14px\; line-height: 18.76px\;" />\n<span style="color: rgb(75\, 79\, 86)\; font-family: helvetica\, arial\, sans-serif\; font-size: 14px\; line-height: 18.76px\;">&ldquo\;God&rsquo\;s Heart for the Disabled in East Asia&rdquo\; - Presenter: Elizabeth Christenson</span><br style="color: rgb(75\, 79\, 86)\; font-family: helvetica\, arial\, sans-serif\; font-size: 14px\; line-height: 18.76px\;" />\n<br style="color: rgb(75\, 79\, 86)\; font-family: helvetica\, arial\, sans-serif\; font-size: 14px\; line-height: 18.76px\;" />\n<span style="color: rgb(75\, 79\, 86)\; font-family: helvetica\, arial\, sans-serif\; font-size: 14px\; line-height: 18.76px\;">Visit the WMCLB website for more information and to register</span><br style="color: rgb(75\, 79\, 86)\; font-family: helvetica\, arial\, sans-serif\; font-size: 14px\; line-height: 18.76px\;" />\n<a href="http://www.wmclb.com/annual-womens-event.html" rel="nofollow nofollow" style="color: rgb(54\, 88\, 153)\; cursor: pointer\; text-decoration: none\; font-family: helvetica\, arial\, sans-serif\; font-size: 14px\; line-height: 18.76px\;" target="_blank">www.wmclb.com/<wbr />annual-womens-event.html</a>
LOCATION:Bethel Lutheran Church 702 W Alcott Ave\, Fergus Falls\, Minnesota 56537
UID:e.314.32917
SEQUENCE:3
DTSTAMP:20260425T112613Z
URL:https://business.fergusfalls.com/events/details/women-s-ministries-convention-bethel-lutheran-church-07-16-2016-32917
END:VEVENT

END:VCALENDAR
