BEGIN:VCALENDAR
VERSION:2.0
PRODID:-//ChamberMaster//Event Calendar 2.0//EN
METHOD:PUBLISH
X-PUBLISHED-TTL:P3D
REFRESH-INTERVAL:P3D
CALSCALE:GREGORIAN
BEGIN:VEVENT
DTSTART:20151020T230000Z
DTEND:20151021T013000Z
X-MICROSOFT-CDO-ALLDAYEVENT:FALSE
SUMMARY:Women's Self-Defense Class
DESCRIPTION:Women's Self- Defense Class- \n\nSponsored by Someplace Safe \n\n\n\nTuesday\, October 20\, 2015\n\n\n\n6:30 pm   8:30 pm\n\n\n\n*Registration at 6:00 p.m.*\n\n\n\nFergus Fans Police Department\n\nCommunity Room\n\n122 West Junius Avenue\n\n\n\nFergus Falls\n\n\n\nInstructor: Sgt. Kevin Sonstebo\n\n\n\nPre-registration is encouraged\n\n\n\nPlease call 1-218-739-2853 for pre-registration and more information.
X-ALT-DESC;FMTTYPE=text/html:<strong><span style="font-size: 18px\;"><span style="color: rgb(0\, 0\, 255)\;">Women&#39\;s Self- Defense Class- </span><br />\nSponsored by Someplace Safe </span><br />\n<br />\nTuesday\, October 20\, 2015<br />\n<br />\n6:30 pm &mdash\; 8:30 pm<br />\n<br />\n*Registration at 6:00 p.m.*</strong><br />\n<br />\n<strong>Fergus Fans Police Department<br />\nCommunity Room<br />\n122 West Junius Avenue<br />\n<br />\nFergus Falls<br />\n<br />\nInstructor: Sgt. Kevin Sonstebo<br />\n<br />\nPre-registration is encouraged<br />\n<br />\nPlease call 1-218-739-2853 for pre-registration and more information.</strong>
LOCATION:Fergus Falls Police Department Community Room 122 West Junius Avenue
UID:e.314.24370
SEQUENCE:3
DTSTAMP:20260426T030019Z
URL:https://business.fergusfalls.com/events/details/women-s-self-defense-class-10-20-2015-24370
END:VEVENT

END:VCALENDAR
