BEGIN:VCALENDAR
VERSION:2.0
PRODID:-//ChamberMaster//Event Calendar 2.0//EN
METHOD:PUBLISH
X-PUBLISHED-TTL:P3D
REFRESH-INTERVAL:P3D
CALSCALE:GREGORIAN
BEGIN:VEVENT
DTSTART:20191024T233000Z
DTEND:20191025T013000Z
X-MICROSOFT-CDO-ALLDAYEVENT:FALSE
SUMMARY:Women's Self Defense Class
DESCRIPTION:Women's Self Defense class at Fergus Falls Police Department Community Room.
X-ALT-DESC;FMTTYPE=text/html:Women&#39\;s Self Defense class at Fergus Falls Police Department Community Room.
LOCATION:Fergus Falls Police Department Community Room 122 W Junius Ave Fergus Falls\, MN 56537
UID:e.314.54806
SEQUENCE:3
DTSTAMP:20260422T221909Z
URL:https://business.fergusfalls.com/events/details/women-s-self-defense-class-54806
END:VEVENT

END:VCALENDAR
