BEGIN:VCALENDAR
VERSION:2.0
PRODID:-//ChamberMaster//Event Calendar 2.0//EN
METHOD:PUBLISH
X-PUBLISHED-TTL:P3D
REFRESH-INTERVAL:P3D
CALSCALE:GREGORIAN
BEGIN:VEVENT
DTSTART:20180711T150000Z
DTEND:20180711T200000Z
X-MICROSOFT-CDO-ALLDAYEVENT:FALSE
SUMMARY:Womens Cancer Golf Scramble
DESCRIPTION:Womens golf scramble to raise money for the Lake Region Cancer Center. $240 a 4 person team - includes golf\, cart\, and lunch.\n\nSign up early as this even fills up quickly.
X-ALT-DESC;FMTTYPE=text/html:<span class="_4n-j _3cht fsl" data-testid="event-permalink-details">Womens golf scramble to raise money for the Lake Region Cancer Center. $240 a 4 person team - includes golf\, cart\, and lunch.<br />\nSign up early as this even fills up quickly.</span>
LOCATION:Stalker Lake Golf Course Bar and Grill 15786 Golf Course Rd\, Dalton\, Minnesota 56324
UID:e.314.48770
SEQUENCE:3
DTSTAMP:20260423T195746Z
URL:https://business.fergusfalls.com/events/details/womens-cancer-golf-scramble-48770
END:VEVENT

END:VCALENDAR
