BEGIN:VCALENDAR
VERSION:2.0
PRODID:-//ChamberMaster//Event Calendar 2.0//EN
METHOD:PUBLISH
X-PUBLISHED-TTL:P3D
REFRESH-INTERVAL:P3D
CALSCALE:GREGORIAN
BEGIN:VEVENT
DTSTART:20190105T160000Z
DTEND:20190105T173000Z
X-MICROSOFT-CDO-ALLDAYEVENT:FALSE
SUMMARY:Woodland Heights Open House
DESCRIPTION:WOODLAND HEIGHTS. A great place to raise a family! You'll enjoy this 5 bedroom\, 2-1/2 bath\, 2 story colonial nestled on an expansive\, wooded lot. This home features fireplace in living room\, beautiful hardwood floors throughout\, main floor bedroom (or den) with built-ins\, & large master bedroom with lots of closet space. The balcony is an exceptional place to take in the view with access from two of the bedrooms. Brick with metal siding\, triple pane windows\, spacious paver patio & shed. Listed now for $250\,000.\n\nSee link below for full property details.\n\nhttp://www.flexmls.com/share/1xZ8j/803WoodlandDrSFergusFallsMN56537
X-ALT-DESC;FMTTYPE=text/html:<span style="font-size:11px"><span style="font-family:verdana"><span style="color:rgb(0\, 0\, 0)">WOODLAND HEIGHTS. A great place to raise a family! You&#39\;ll enjoy this 5 bedroom\, 2-1/2 bath\, 2 story colonial nestled on an expansive\, wooded lot. This home features fireplace in living room\, beautiful hardwood floors throughout\, main floor bedroom (or den) with built-ins\, &amp\; large master bedroom with lots of closet space. The balcony is an exceptional place to take in the view with access from two of the bedrooms. Brick with metal siding\, triple pane windows\, spacious paver patio &amp\; shed. Listed now for $250\,000.</span><br />\nSee link below for full property details.<br />\n<a href="http://www.flexmls.com/share/1xZ8j/803WoodlandDrSFergusFallsMN56537">http://www.flexmls.com/share/1xZ8j/803WoodlandDrSFergusFallsMN56537</a></span></span><br />\n&nbsp\;
LOCATION:803 Woodland Drive S\, Fergus Falls\, MN 56537
UID:e.314.52267
SEQUENCE:3
DTSTAMP:20260423T105827Z
URL:https://business.fergusfalls.com/events/details/woodland-heights-open-house-52267
END:VEVENT

END:VCALENDAR
