BEGIN:VCALENDAR
VERSION:2.0
PRODID:-//ChamberMaster//Event Calendar 2.0//EN
METHOD:PUBLISH
X-PUBLISHED-TTL:P3D
REFRESH-INTERVAL:P3D
CALSCALE:GREGORIAN
BEGIN:VEVENT
DTSTART:20200128T000000Z
DTEND:20200128T023000Z
X-MICROSOFT-CDO-ALLDAYEVENT:FALSE
SUMMARY:Work of Art: Career Planning
DESCRIPTION:Where do you want to be both artistically and professionally? Learn how to define your values\, identify key choices and develop a plan to achieve your career goals. This workshop is a part of Work of Art: Business Skills for Artists.\n\nDate: Monday\, January 27\, 6:00   8:30 pm\n\nLocation: Springboard for the Arts\, 201 West Lincoln Ave\, Fergus Falls\, MN 56537\n\nPresenter: Springboard for the Arts Staff\n\nTuition: Free. If you have questions\, call 218-998-4037 or email dominic@springboardforthearts.org.
X-ALT-DESC;FMTTYPE=text/html:<p>Where do you want to be both artistically and professionally? Learn how to define your values\, identify key choices and develop a plan to achieve your career goals. This workshop is a part of&nbsp\;<a href="https://springboardforthearts.org/professional-growth/work-of-art-program/" style="box-sizing: inherit\; background-color: transparent\; -webkit-text-decoration-skip: objects\; color: rgb(72\, 163\, 119)\; transition: all 150ms ease\;">Work of Art: Business Skills for Artists</a>.</p>\n\n<p>Date: Monday\, January 27\, 6:00 &ndash\; 8:30 pm<br />\nLocation: Springboard for the Arts\, 201 West Lincoln Ave\, Fergus Falls\, MN 56537<br />\nPresenter: Springboard for the Arts Staff<br />\nTuition: Free. If you have questions\, call 218-998-4037 or email&nbsp\;<a href="mailto:dominic@springboardforthearts.org" style="box-sizing: inherit\; background-color: transparent\; -webkit-text-decoration-skip: objects\; color: rgb(72\, 163\, 119)\; transition: all 150ms ease\;">dominic@springboardforthearts.org</a>.</p>\n
LOCATION:Springboard for the Arts\, 201 West Lincoln Ave\, Fergus Falls\, MN 56537
UID:e.314.56004
SEQUENCE:3
DTSTAMP:20260422T172146Z
URL:https://business.fergusfalls.com/events/details/work-of-art-career-planning-56004
END:VEVENT

END:VCALENDAR
