BEGIN:VCALENDAR
VERSION:2.0
PRODID:-//ChamberMaster//Event Calendar 2.0//EN
METHOD:PUBLISH
X-PUBLISHED-TTL:P3D
REFRESH-INTERVAL:P3D
CALSCALE:GREGORIAN
BEGIN:VEVENT
DTSTART:20200204T000000Z
DTEND:20200204T023000Z
X-MICROSOFT-CDO-ALLDAYEVENT:FALSE
SUMMARY:Work of Art: Recordkeeping
DESCRIPTION:Learn how to track revenues and expenses\, make informed projections\, and gain a clearer understanding of your artistic business finances. This workshop is a part of Work of Art: Business Skills for Artists.\n\nDate: Monday\, February 3\, 6 pm   8:30 pm\n\nLocation: Springboard for the Arts\, 201 W. Lincoln\, Ave\, Fergus Falls\, MN 56537\n\nPresenter: Springboard for the Arts Staff\n\nTuition: Free. If you have questions\, please call 218-998-4037 or e-mail dominic@springboardforthearts.org.
X-ALT-DESC;FMTTYPE=text/html:<p>Learn how to track revenues and expenses\, make informed projections\, and gain a clearer understanding of your artistic business finances. This workshop is a part of&nbsp\;<a href="https://springboardforthearts.org/professional-growth/work-of-art-program/" style="box-sizing: inherit\; background-color: transparent\; -webkit-text-decoration-skip: objects\; color: rgb(72\, 163\, 119)\; transition: all 150ms ease\;">Work of Art: Business Skills for Artists</a>.</p>\n\n<p>Date: Monday\, February 3\, 6 pm &ndash\; 8:30 pm<br />\nLocation: Springboard for the Arts\, 201 W. Lincoln\, Ave\, Fergus Falls\, MN 56537<br />\nPresenter: Springboard for the Arts Staff<br />\nTuition:&nbsp\;Free. If you have questions\, please call 218-998-4037 or e-mail&nbsp\;<a href="mailto:dominic@springboardforthearts.org" style="box-sizing: inherit\; background-color: transparent\; -webkit-text-decoration-skip: objects\; color: rgb(72\, 163\, 119)\; transition: all 150ms ease\;">dominic@springboardforthearts.org</a>.</p>\n
LOCATION:Springboard for the Arts\, 201 W. Lincoln\, Ave\, Fergus Falls\, MN 56537
UID:e.314.56005
SEQUENCE:3
DTSTAMP:20260422T142919Z
URL:https://business.fergusfalls.com/events/details/work-of-art-recordkeeping-02-03-2020-56005
END:VEVENT

END:VCALENDAR
