BEGIN:VCALENDAR
VERSION:2.0
PRODID:-//ChamberMaster//Event Calendar 2.0//EN
METHOD:PUBLISH
X-PUBLISHED-TTL:P3D
REFRESH-INTERVAL:P3D
CALSCALE:GREGORIAN
BEGIN:VEVENT
DTSTART:20210921T164500Z
DTEND:20210921T180000Z
X-MICROSOFT-CDO-ALLDAYEVENT:FALSE
SUMMARY:Work Well\, Eat Well -- Free Food Tasting
DESCRIPTION:You're invited to a special free taste testing event to introduce you to area healthy catering/healthy restaurant opportunities. Why attend? Are you creating a healthy meeting atmosphere at your workplace? Are your employees looking for healthier options for lunch?\n\nJoin us to see what Fergus Falls has to offer for healthy catering/healthy restaurant options. You won't want to miss this great opportunity to eat and learn! Go back to your desk fueled for the day and equipped to create a healthier worksite. Featuring Free Healthy\, Tasty Menu items from:\n\n	Fabled Farmer \n	MamaSheena's \n	Papacito's Burritos \n	Roasted \n	Toast \n	Zen's Catering\n\n\n\nEat and Learn   Sample healthy menu items from local caterers/restaurants\, go back to work fueled for a productive afternoon   Leave with contact information for featured local caterers/restaurants highlighting healthy items   Learn how to create a Healthy Meeting Policy for your worksite   Learn about the importance of eating well throughout the workday We especially want to encourage the person who has responsibility for ordering catering to attend. Please register at: https://www.eventbrite.com/e/work-well-eat-well-tickets-167744027903
X-ALT-DESC;FMTTYPE=text/html:You&#39\;re invited to a special free taste testing event to introduce you to area healthy catering/healthy restaurant opportunities. Why attend? Are you creating a healthy meeting atmosphere at your workplace? Are your employees looking for healthier options for lunch?<br />\nJoin us to see what Fergus Falls has to offer for healthy catering/healthy restaurant options. You won&#39\;t want to miss this great opportunity to eat and learn! Go back to your desk fueled for the day and equipped to create a healthier worksite. Featuring Free Healthy\, Tasty Menu items from:\n<ul>\n	<li><strong>Fabled Farmer </strong></li>\n	<li><strong>MamaSheena&#39\;s </strong></li>\n	<li><strong>Papacito&#39\;s Burritos </strong></li>\n	<li><strong>Roasted </strong></li>\n	<li><strong>Toast </strong></li>\n	<li><strong>Zen&#39\;s Catering</strong></li>\n</ul>\n<br />\nEat and Learn &middot\; Sample healthy menu items from local caterers/restaurants\, go back to work fueled for a productive afternoon &middot\; Leave with contact information for featured local caterers/restaurants highlighting healthy items &middot\; Learn how to create a Healthy Meeting Policy for your worksite &middot\; Learn about the importance of eating well throughout the workday We especially want to encourage the person who has responsibility for ordering catering to attend. Please register at: https://www.eventbrite.com/e/work-well-eat-well-tickets-167744027903
LOCATION:Lakes Country Service Cooperative
UID:e.314.63600
SEQUENCE:3
DTSTAMP:20260421T085805Z
URL:https://business.fergusfalls.com/events/details/work-well-eat-well-free-food-tasting-63600
END:VEVENT

END:VCALENDAR
