BEGIN:VCALENDAR
VERSION:2.0
PRODID:-//ChamberMaster//Event Calendar 2.0//EN
METHOD:PUBLISH
X-PUBLISHED-TTL:P3D
REFRESH-INTERVAL:P3D
CALSCALE:GREGORIAN
BEGIN:VEVENT
DTSTART:20221018T153000Z
DTEND:20221018T170000Z
X-MICROSOFT-CDO-ALLDAYEVENT:FALSE
SUMMARY:Workforce Community Conversation
DESCRIPTION:Area employers are invited to a Workforce Community Conversation event on Oct. 18 sponsored by Minnesota Dual-Training Pipeline. \n\nAttendees are invited to share their workforce challenges and successes\, network with other business leaders and learn about Dual-Training Pipeline's innovative approach to address current and future workforce needs through its dual-training approach.\n\nTo join the conversation\, RSVP here or call 651-284-5353.
X-ALT-DESC;FMTTYPE=text/html:<p style="margin-top:0in\;margin-right:0in\;margin-bottom:7.5pt\;margin-left:0in\;\nline-height:140%"><span style="font-size:12.0pt\;line-height:140%\;color:black">Area employers are invited to a Workforce Community Conversation event on Oct. 18 sponsored by Minnesota Dual-Training Pipeline.&nbsp\;<o:p></o:p></span></p>\n\n<p style="margin-top:0in\;margin-right:0in\;margin-bottom:7.5pt\;margin-left:0in\;\nline-height:140%"><span style="font-size:12.0pt\;line-height:140%\;color:black">Attendees are invited to share their workforce challenges and successes\, network with other business leaders and learn about Dual-Training Pipeline&#39\;s innovative approach to address current and future workforce needs through its dual-training approach.<o:p></o:p></span></p>\n\n<p style="margin-top:0in\;margin-right:0in\;margin-bottom:7.5pt\;margin-left:0in\;\nline-height:140%"><span style="font-size:12.0pt\;line-height:140%\;color:black"><a href="https://lnks.gd/l/eyJhbGciOiJIUzI1NiJ9.eyJidWxsZXRpbl9saW5rX2lkIjoxMDAsInVyaSI6ImJwMjpjbGljayIsImJ1bGxldGluX2lkIjoiMjAyMjEwMTAuNjQ5MDMyMDEiLCJ1cmwiOiJodHRwczovL3d3dy5ldmVudGJyaXRlLmNvbS9lL21uLWR1YWwtdHJhaW5pbmctcGlwZWxpbmUtd29ya2ZvcmNlLWNvbW11bml0eS1jb252ZXJzYXRpb24tZmVyZ3VzLWZhbGxzLXRpY2tldHMtNDA2MTk5NjkzMjE3P3V0bV9tZWRpdW09ZW1haWwmdXRtX3NvdXJjZT1nb3ZkZWxpdmVyeSJ9.aAkH510pAZxS7mqMH9A0zOe-yFtLt5dsc9logUFlxVs/s/2573924424/br/145502895973-l" style="-ms-word-break: break-all\;word-break:break-word\;\n-webkit-hyphens: none\;-moz-hyphens: none\;hyphens: none" target="_blank"><span style="color:\n#0062B2">To join the conversation\,&nbsp\;RSVP here&nbsp\;</span></a>or call 651-284-5353.<o:p></o:p></span></p>\n
LOCATION:Fergus Falls Public Library\, 205 E Hampden Ave\, Fergus Falls\, MN
UID:e.314.67556
SEQUENCE:3
DTSTAMP:20260421T095436Z
URL:https://business.fergusfalls.com/events/details/workforce-community-conversation-67556
END:VEVENT

END:VCALENDAR
