BEGIN:VCALENDAR
VERSION:2.0
PRODID:-//ChamberMaster//Event Calendar 2.0//EN
METHOD:PUBLISH
X-PUBLISHED-TTL:P3D
REFRESH-INTERVAL:P3D
CALSCALE:GREGORIAN
BEGIN:VEVENT
DTSTART:20160512T163000Z
DTEND:20160512T220000Z
X-MICROSOFT-CDO-ALLDAYEVENT:FALSE
SUMMARY:Workforce Solutions Summit: Peer to Peer Learning
DESCRIPTION:The summit is designed to offer real-world solutions for labor force issues that employers will be able to replicate in their industry. \n\nAll business owners (of any type & size)\, managers\, HR professionals should attend if you want solutions for recruiting and retaining staff.\n\nCost for the event is $25\, and includes lunch\, keynote speaker Gardner Carrick\, three break-out sessions featuring more than 10 presenters\, and networking time for employers to share and discuss workforce issues in their companies.\n\nCarrick is Vice President of Strategic Initiatives at The Manufacturing Institute\, a national organization that addresses current and future skills and workforce development gaps through its "Close the Skills Gap" framework. \n\nFor more information or to register Click Here: Workforce Solutions Summit.\n\nThe West Central Minnesota Labor Force Development Council is a voluntary association composed of leaders from business and industry\, PreK-12 education\, colleges and universities\, economic development\, government\, jobs and training\, labor and other organizations that have a critical interest in assuring that the region has a sufficient supply of skilled labor to facilitate long term economic vitality. \n\nWest Central Initiative is a regional community foundation serving the nine west central Minnesota counties of Becker\, Clay\, Douglas\, Grant\, Otter Tail\, Pope\, Stevens\, Traverse and Wilkin. WCI invests resources in our communities for regional success\, using the tools of economic development and community development\, and by promoting philanthropy. Learn more at www.wcif.org.
X-ALT-DESC;FMTTYPE=text/html:The summit is designed to offer real-world solutions for labor force issues that employers will be able to replicate in their industry.&nbsp\;<br />\nAll business owners (of any type &amp\; size)\, managers\, HR professionals should attend if you want solutions for recruiting and retaining staff.<br />\nCost for the event is $25\, and includes lunch\, keynote speaker Gardner Carrick\, three break-out sessions featuring more than 10 presenters\, and networking time for employers to share and discuss workforce issues in their companies.<br />\nCarrick is Vice President of Strategic Initiatives at The Manufacturing Institute\, a national organization that addresses current and future skills and workforce development gaps through its &ldquo\;Close the Skills Gap&rdquo\; framework.&nbsp\;<br />\n<span style="font-size:14px\;"><span style="font-family:verdana\;"><strong><span style="background-color:#FFFF00\;">For more information or to register Click Here:&nbsp\;</span><a href="https://wciforg.presencehost.net/news_resources/event/2016/05/12/workforce-solutions-summit/120935" target="_blank"><span style="background-color:#FFFF00\;">Workforce Solutions Summit</span></a><span style="background-color:#FFFF00\;">.</span></strong></span></span><br />\n<span style="font-size:11px\;"><em>The West Central Minnesota Labor Force Development Council is a voluntary association composed of leaders from business and industry\, PreK-12 education\, colleges and universities\, economic development\, government\, jobs and training\, labor and other organizations that have a critical interest in assuring that the region has a sufficient supply of skilled labor to facilitate long term economic vitality.&nbsp\;<br />\nWest Central Initiative is a regional community foundation serving the nine west central Minnesota counties of Becker\, Clay\, Douglas\, Grant\, Otter Tail\, Pope\, Stevens\, Traverse and Wilkin. WCI invests resources in our communities for regional success\, using the tools of economic development and community development\, and by promoting philanthropy. Learn more at www.wcif.org.&nbsp\;</em></span>
LOCATION:Bigwood Event Center 925 Western Ave. Fergus Falls\, MN 56537
UID:e.314.32107
SEQUENCE:3
DTSTAMP:20260425T162758Z
URL:https://business.fergusfalls.com/events/details/workforce-solutions-summit-peer-to-peer-learning-05-12-2016-32107
END:VEVENT

END:VCALENDAR
