BEGIN:VCALENDAR
VERSION:2.0
PRODID:-//ChamberMaster//Event Calendar 2.0//EN
METHOD:PUBLISH
X-PUBLISHED-TTL:P3D
REFRESH-INTERVAL:P3D
CALSCALE:GREGORIAN
BEGIN:VEVENT
DTSTART:20191109T200000Z
DTEND:20191109T220000Z
X-MICROSOFT-CDO-ALLDAYEVENT:FALSE
SUMMARY:Working Mothers Double Day
DESCRIPTION:A presentation on work/life balance and decision-making of working mothers. Discussion following the presentation. Sponsored by Fergus Falls Area NOW.
X-ALT-DESC;FMTTYPE=text/html:A presentation on work/life balance and decision-making of working mothers. Discussion following the presentation. Sponsored by Fergus Falls Area NOW.
LOCATION:Cafe 116
UID:e.314.55791
SEQUENCE:3
DTSTAMP:20260422T185754Z
URL:https://business.fergusfalls.com/events/details/working-mothers-double-day-55791
END:VEVENT

END:VCALENDAR
