BEGIN:VCALENDAR
VERSION:2.0
PRODID:-//ChamberMaster//Event Calendar 2.0//EN
METHOD:PUBLISH
X-PUBLISHED-TTL:P3D
REFRESH-INTERVAL:P3D
CALSCALE:GREGORIAN
BEGIN:VEVENT
DTSTART:20160406T133000Z
DTEND:20160406T163000Z
X-MICROSOFT-CDO-ALLDAYEVENT:FALSE
SUMMARY:Workplace Trilogy: The Legalities of Time\, Money\, & Social Media for Employers
DESCRIPTION:THIS IS A "YOU MUST GO" MORNING! \n\nThe team at Pemberton Law have put together a seminar featuring the most common questions posed during the last year by regional employers. Join Kristi Hastings and Josh Heggem to learn the latest and get your own questions answered. \n\n\n\nHour 1:  Payment for Work \n\nWage and Hour Basics\, Fair Labor Standards Act\, Exempt vs. Nonexempt Employees\, Overtime (Including New Exempt Salary Limits)\, Minimum Wage\, Volunteers\, New Laws \n\nHour 2:  Terms and Conditions of Work \n\n\n\nNational Labor Relations Act\, PELRA\, Labor Relations\, Which Labor Laws Apply to Public vs. Private Employers\, How to Avoid Unfair Labor Practices Charges\, Understanding What must be Permitted or Not in the Workplace\, New Laws \n\n\n\nHour 3:  Not Safe for Work (NSF) \n\nImpact of Social Media and Technology on the Workplace and what you need to know today. \n\n\n\n$30 per attendee/$35 after March 29 or walk-in. Preregister by March 29.  No refunds.\n\n\n\nFor more info or register:  offuttschoolofbusiness.org/sbdc/events
X-ALT-DESC;FMTTYPE=text/html:THIS IS A &quot\;YOU MUST GO&quot\; MORNING!&nbsp\;<br />\nThe team at Pemberton Law have put together a seminar featuring the most common questions posed during the last year by regional employers. Join Kristi Hastings and Josh Heggem to learn the latest and get your own questions answered.&nbsp\;<br />\n<br />\nHour 1: &nbsp\;Payment for Work&nbsp\;<br />\nWage and Hour Basics\, Fair Labor Standards Act\, Exempt vs. Nonexempt Employees\, Overtime (Including New Exempt Salary Limits)\, Minimum Wage\, Volunteers\, New Laws&nbsp\;<br />\nHour 2: &nbsp\;Terms and Conditions of Work&nbsp\;<br />\n<br />\nNational Labor Relations Act\, PELRA\, Labor Relations\, Which Labor Laws Apply to Public vs. Private Employers\, How to Avoid Unfair Labor Practices Charges\, Understanding What must be Permitted or Not in the Workplace\, New Laws&nbsp\;<br />\n<br />\nHour 3: &nbsp\;Not Safe for Work (NSF)&nbsp\;<br />\nImpact of Social Media and Technology on the Workplace and what you need to know today.&nbsp\;<br />\n<br />\n$30 per attendee/$35 after March 29 or walk-in. Preregister by March 29. &nbsp\;No refunds.<br />\n<br />\nFor more info or register: &nbsp\;offuttschoolofbusiness.org/sbdc/events&nbsp\;
LOCATION:West Central Initiative\, 1000 Western Ave. Fergus Falls\, MN 56537
UID:e.314.32050
SEQUENCE:3
DTSTAMP:20260425T165054Z
URL:https://business.fergusfalls.com/events/details/workplace-trilogy-the-legalities-of-time-money-social-media-for-employers-04-06-2016-32050
END:VEVENT

END:VCALENDAR
