BEGIN:VCALENDAR
VERSION:2.0
PRODID:-//ChamberMaster//Event Calendar 2.0//EN
METHOD:PUBLISH
X-PUBLISHED-TTL:P3D
REFRESH-INTERVAL:P3D
CALSCALE:GREGORIAN
BEGIN:VEVENT
DTSTART:20160606T160000Z
DTEND:20160606T170000Z
X-MICROSOFT-CDO-ALLDAYEVENT:FALSE
SUMMARY:Workplace Wellness Network Meeting: Prioritizing Health\, Achieving Success
DESCRIPTION:All business owners\, HR managers and other business people interested in making workplace wellness a priority are invited to attend this meeting. Whether you already have a workplace wellness program\, are thinking about starting one or are just curious\, you're invited.\n\nTopic: Employee Engagement. Join us for a conversation sharing your successes and barriers with engagement.
X-ALT-DESC;FMTTYPE=text/html:All business owners\, HR managers and other business people interested in making workplace wellness a priority are invited to attend this meeting. Whether you already have a workplace wellness program\, are thinking about starting one or are just curious\, you&#39\;re invited.<br />\nTopic: Employee Engagement. Join us for a conversation sharing your successes and barriers with engagement.
LOCATION:Otter Tail County Government Services Center 500 W. Fir Ave. Fergus Falls\, MN Otter Tail Lake Room
UID:e.314.32735
SEQUENCE:3
DTSTAMP:20260425T131115Z
URL:https://business.fergusfalls.com/events/details/workplace-wellness-network-meeting-prioritizing-health-achieving-success-06-06-2016-32735
END:VEVENT

END:VCALENDAR
