BEGIN:VCALENDAR
VERSION:2.0
PRODID:-//ChamberMaster//Event Calendar 2.0//EN
METHOD:PUBLISH
X-PUBLISHED-TTL:P3D
REFRESH-INTERVAL:P3D
CALSCALE:GREGORIAN
BEGIN:VEVENT
DTSTART:20160723T170000Z
DTEND:20160723T190000Z
X-MICROSOFT-CDO-ALLDAYEVENT:FALSE
SUMMARY:Workshop - Alcohol Inks by Mary Jo Wentz
DESCRIPTION:Workshop - Saturday\, July 23\, 2016\, Noon - 2 p.m. Learn about alcohol inks and try them for yourself.  This activity is made possible by the voters of Minnesota through grants from the Lake Region Arts Council\, thanks to a legislative appropriation from the Arts and Cultural Heritage Fund.
X-ALT-DESC;FMTTYPE=text/html:<table class="ep-dp-dt">\n	<tbody>\n		<tr id=":19.descript-row">\n			<th class="ep-dp-dt-th">&nbsp\;</th>\n			<td class="ep-dp-dt-td">\n			<div class="ep-dp-descript" id=":19.descript">\n			<div class="ui-sch">\n			<div class="ui-sch-view">Workshop - Saturday\, July 23\, 2016\, Noon - 2 p.m. Learn about alcohol inks and try them for yourself.&nbsp\; This activity is made possible by the voters of Minnesota through grants from the Lake Region Arts Council\, thanks to a legislative appropriation from the Arts and Cultural Heritage Fund.</div>\n			</div>\n			</div>\n			</td>\n		</tr>\n	</tbody>\n</table>\n
LOCATION:Otter Tail County Historical Society\, 1110 W Lincoln Ave\, Fergus Falls\, MN 56537\, United States
UID:e.314.32857
SEQUENCE:3
DTSTAMP:20260425T111415Z
URL:https://business.fergusfalls.com/events/details/workshop-alcohol-inks-by-mary-jo-wentz-07-23-2016-32857
END:VEVENT

END:VCALENDAR
