BEGIN:VCALENDAR
VERSION:2.0
PRODID:-//ChamberMaster//Event Calendar 2.0//EN
METHOD:PUBLISH
X-PUBLISHED-TTL:P3D
REFRESH-INTERVAL:P3D
CALSCALE:GREGORIAN
BEGIN:VEVENT
DTSTART:20171216T200000Z
DTEND:20171216T220000Z
X-MICROSOFT-CDO-ALLDAYEVENT:FALSE
SUMMARY:Workshop: Holiday Cards in Reuse!
DESCRIPTION:Hinge artist Courtney Adair Johnson will be teaching a workshop on how to use reuse material to make Holiday cards at the Kaddatz Galleries on December 16\, 2-4pm. Learn how to source material to easily create cards in multiples\, to share with all your friends and family this holiday season!\n\n\n\nDid you know that paper is one of the easiest and most readily available resource to find for free? Printers and papermakers usually have extra to share with artists and students\, you just have to ask.\n\n\n\nThinking about the environment in art making is a big part of Hinge Artist's Courtney Adair Johnson art practice. She will guide us on how she finds material\, ways to easily set up the process to create 20 or more cards\, along with fun ways to create color\, texture and lines with printing\, painting and assemblage.\n\n\n\nAll supplies provided. $15 worksop fee and for ages 6+.\n\n\n\nHere is the direct link to the workshop and where you can sign-up!\n\nhttps://kaddatzgalleries.org/get-involved/workshops-events/
X-ALT-DESC;FMTTYPE=text/html:<span class="_4n-j _fbReactionComponent__eventDetailsContentTags fsl" data-testid="event-permalink-details">Hinge artist Courtney Adair Johnson will be teaching a workshop on how to use reuse material to make Holiday cards at the Kaddatz Galleries on December 16\, 2-4pm. Learn how to source material to easily create cards in multiples\, to share with all your friends and family this holiday season!<br />\n<br />\nDid you know that paper is one of the easiest and most readily available resource to find for free? Printers and papermakers usually have extra to share with artists and students\, you just have to ask.<br />\n<br />\nThinking about the environment in art making is a big part of Hinge Artist&rsquo\;s Courtney Adair Johnson art practice. She will guide us on how she finds material\, ways to easily set up the process to create 20 or more cards\, along with fun ways to create color\, texture and lines with printing\, painting and assemblage.<br />\n<br />\nAll supplies provided. $15 worksop fee and for ages 6+.<br />\n<br />\nHere is the direct link to the workshop and where you can sign-up!<br />\n<a data-lynx-mode="hover" href="https://l.facebook.com/l.php?u=https%3A%2F%2Fkaddatzgalleries.org%2Fget-involved%2Fworkshops-events%2F&amp\;h=ATNe7XhUiYpp-YwvDDPgtigi-LmXe0NR7v_veyPh0THtMtfYrUtdlabXq1a40Zb21wCi00HPUS0oD1SUcrtXIo1aU35nQzzxtiPmZo3WaF-50OTTtOvpCYLCUzMuDwxxvO92OUCZoTv_FsXmiZNF7RFbRQKCQl4lcOtVd5U5GTW9AsQ8guHs" rel="nofollow" target="_blank"><font color="#0066cc"><span>https://</span><wbr /><span>kaddatzgalleries.org/</span><wbr /><span>get-involved/</span><wbr /></font><font color="#0066cc">workshops-events/</font></a></span>
LOCATION:
UID:e.314.43550
SEQUENCE:3
DTSTAMP:20260424T061348Z
URL:https://business.fergusfalls.com/events/details/workshop-holiday-cards-in-reuse-43550
END:VEVENT

END:VCALENDAR
