BEGIN:VCALENDAR
VERSION:2.0
PRODID:-//ChamberMaster//Event Calendar 2.0//EN
METHOD:PUBLISH
X-PUBLISHED-TTL:P3D
REFRESH-INTERVAL:P3D
CALSCALE:GREGORIAN
BEGIN:VEVENT
DTSTART:20170224T160000Z
DTEND:20170224T170000Z
X-MICROSOFT-CDO-ALLDAYEVENT:FALSE
SUMMARY:World War I Weaponry Focus of OTCHS Coffee Klatch
DESCRIPTION:The Otter Tail County Historical Society's Coffee Klatch series continues on Friday\, February 24\, 10 a.m. as Judge Mark Hanson discusses the evolution of weaponry during World War I.\n\n     World War I occurred at a technological crossroads. In some respects militaries still relied on 19th century tactics and firearms. By the war's conclusion cavalry had been replaced by tanks and bi-planes were engaged in aerial combat. Using pieces from his extensive collection\, Hanson will talk about the weapons soldiers carried and how they impacted the war.
X-ALT-DESC;FMTTYPE=text/html:The Otter Tail County Historical Society&rsquo\;s Coffee Klatch series continues on Friday\, February 24\, 10 a.m. as Judge Mark Hanson discusses the evolution of weaponry during World War I.<br />\n&nbsp\;&nbsp\;&nbsp\;&nbsp\; World War I occurred at a technological crossroads. In some respects militaries still relied on 19th century tactics and firearms. By the war&rsquo\;s conclusion cavalry had been replaced by tanks and bi-planes were engaged in aerial combat. Using pieces from his extensive collection\, Hanson will talk about the weapons soldiers carried and how they impacted the war.<br />\n&nbsp\; &nbsp\;
LOCATION:Otter Tail County Historical Society 1110 Lincoln Ave West Fergus Falls\, MN 56537
UID:e.314.38702
SEQUENCE:3
DTSTAMP:20260424T225627Z
URL:https://business.fergusfalls.com/events/details/world-war-i-weaponry-focus-of-otchs-coffee-klatch-38702
END:VEVENT

END:VCALENDAR
