BEGIN:VCALENDAR
VERSION:2.0
PRODID:-//ChamberMaster//Event Calendar 2.0//EN
METHOD:PUBLISH
X-PUBLISHED-TTL:P3D
REFRESH-INTERVAL:P3D
CALSCALE:GREGORIAN
BEGIN:VEVENT
DTSTART:20180804T150000Z
DTEND:20180804T230000Z
X-MICROSOFT-CDO-ALLDAYEVENT:FALSE
SUMMARY:WSCA Game Show
DESCRIPTION:Payback WSCA Game Show
X-ALT-DESC;FMTTYPE=text/html:Payback WSCA Game Show
LOCATION:Town & Country Saddle Club Arena 5 miles east of Fergus Falls on Hwy 210
UID:e.314.50281
SEQUENCE:3
DTSTAMP:20260423T180906Z
URL:https://business.fergusfalls.com/events/details/wsca-game-show-50281
END:VEVENT

END:VCALENDAR
