BEGIN:VCALENDAR
VERSION:2.0
PRODID:-//ChamberMaster//Event Calendar 2.0//EN
METHOD:PUBLISH
X-PUBLISHED-TTL:P3D
REFRESH-INTERVAL:P3D
CALSCALE:GREGORIAN
BEGIN:VEVENT
DTSTART:20181205T120000Z
DTEND:20181205T230000Z
X-MICROSOFT-CDO-ALLDAYEVENT:FALSE
SUMMARY:Y's Folks 28th Annual Cookie Sale
DESCRIPTION:Stock up on cookies for the holidays!
X-ALT-DESC;FMTTYPE=text/html:<span style="font-family:tahoma\;"><span style="font-size:20px\;">Stock up on cookies for the holidays!&nbsp\;</span></span>
LOCATION:YMCA 1164 Friberg Ave. Fergus Falls MN 56537
UID:e.314.52018
SEQUENCE:3
DTSTAMP:20260423T122323Z
URL:https://business.fergusfalls.com/events/details/y-s-folks-28th-annual-cookie-sale-52018
END:VEVENT

END:VCALENDAR
