BEGIN:VCALENDAR
VERSION:2.0
PRODID:-//ChamberMaster//Event Calendar 2.0//EN
METHOD:PUBLISH
X-PUBLISHED-TTL:P3D
REFRESH-INTERVAL:P3D
CALSCALE:GREGORIAN
BEGIN:VEVENT
DTSTART:20190912T210000Z
DTEND:20190913T000000Z
X-MICROSOFT-CDO-ALLDAYEVENT:FALSE
SUMMARY:Y's FOLKS ANNUAL FLAPJACKS\, SAUSAGE & EGGS SUPPER
DESCRIPTION:Y's Folks is an auxiliary of the Fergus Falls Area Family YMCA. The Flapjacks\, Sausage & Eggs Supper is one of three annual fundraisers that the Y's Folks schedule each year to support our local YMCA and benefit family and youth activities.
X-ALT-DESC;FMTTYPE=text/html:Y&#39\;s Folks is an auxiliary of the Fergus Falls Area Family YMCA. The Flapjacks\, Sausage &amp\; Eggs Supper is one of three annual fundraisers that the Y&#39\;s Folks schedule each year to support our local YMCA and benefit family and youth activities.
LOCATION:YMCA Community Room 1164 Friberg Avenue North Fergus Falls\, MN
UID:e.314.40993
SEQUENCE:3
DTSTAMP:20260422T223053Z
URL:https://business.fergusfalls.com/events/details/y-s-folks-annual-flapjacks-sausage-eggs-supper-09-12-2019-40993
END:VEVENT

END:VCALENDAR
