BEGIN:VCALENDAR
VERSION:2.0
PRODID:-//ChamberMaster//Event Calendar 2.0//EN
METHOD:PUBLISH
X-PUBLISHED-TTL:P3D
REFRESH-INTERVAL:P3D
CALSCALE:GREGORIAN
BEGIN:VEVENT
DTSTART:20151015T210000Z
DTEND:20151016T000000Z
X-MICROSOFT-CDO-ALLDAYEVENT:FALSE
SUMMARY:Y's Folks Fllapjack & Sausage Supper
DESCRIPTION:Y's Folks Fundraiser Proceeds benefit the Fergus Falls YMCA & Youth Activities
X-ALT-DESC;FMTTYPE=text/html:Y&#39\;s Folks Fundraiser Proceeds benefit the Fergus Falls YMCA &amp\; Youth Activities
LOCATION:Fergus Falls Area Family YMCA Community Room 1164 N. Friberg Ave
UID:e.314.24471
SEQUENCE:3
DTSTAMP:20260426T030458Z
URL:https://business.fergusfalls.com/events/details/y-s-folks-fllapjack-sausage-supper-10-15-2015-24471
END:VEVENT

END:VCALENDAR
