BEGIN:VCALENDAR
VERSION:2.0
PRODID:-//ChamberMaster//Event Calendar 2.0//EN
METHOD:PUBLISH
X-PUBLISHED-TTL:P3D
REFRESH-INTERVAL:P3D
CALSCALE:GREGORIAN
BEGIN:VEVENT
DTSTART:20160513T160000Z
DTEND:20160513T180000Z
X-MICROSOFT-CDO-ALLDAYEVENT:FALSE
SUMMARY:Y's Folks Spring Salad Luncheon
DESCRIPTION:Tickets Available at the Door\n\nWin Prizes!
X-ALT-DESC;FMTTYPE=text/html:Tickets Available at the Door<br />\nWin Prizes!
LOCATION:Fergus Falls YMCA Community Room
UID:e.314.32680
SEQUENCE:3
DTSTAMP:20260425T145605Z
URL:https://business.fergusfalls.com/events/details/y-s-folks-spring-salad-luncheon-05-13-2016-32680
END:VEVENT

END:VCALENDAR
