BEGIN:VCALENDAR
VERSION:2.0
PRODID:-//ChamberMaster//Event Calendar 2.0//EN
METHOD:PUBLISH
X-PUBLISHED-TTL:P3D
REFRESH-INTERVAL:P3D
CALSCALE:GREGORIAN
BEGIN:VEVENT
DTSTART:20180811T130000Z
DTEND:20180811T160000Z
X-MICROSOFT-CDO-ALLDAYEVENT:FALSE
SUMMARY:YMCA Family Adventure Run
DESCRIPTION:The YMCA is hosting the 1st annual Family Adventure Run at MState campus in Fergus Falls on Saturday August 11th. Get your family together for a fun filled 2 mile course full of mud\, hills\, water\, and obstacles.\n\n\n\nRegister at the YMCA or at www.fergusfallsymca.org \n\nContact Korey at (218) 739-4489 ext. 18 or korey@fergusfallsymca.org with any questions.\n\n\n\nShirts must be ordered by August 1st
X-ALT-DESC;FMTTYPE=text/html:<div class="_63ew" data-testid="event-permalink-details"><span>The YMCA is hosting the 1st annual Family Adventure Run at MState campus in Fergus Falls on Saturday August 11th. Get your family together for a fun filled 2 mile course full of mud\, hills\, water\, and obstacles.<br />\n<br />\nRegister at the YMCA or at <a data-lynx-mode="hover" href="http://l.facebook.com/l.php?u=http%3A%2F%2Fwww.fergusfallsymca.org%2F&amp\;h=AT34tYQGwaPesIwmRPnl6DfYFytWLYS8R_mvBNu1tlMnEUbzxD-pgwhEwXGMtinCu791izV543N4aUy04lWWiYeEypilZajBbpF3pzuGfBZpsuh3u1no-MBJ-ud0gpP5" rel="nofollow" target="_blank"><font color="#0066cc">www.fergusfallsymca.org</font></a>&nbsp\;<br />\nContact Korey at (218) 739-4489 ext. 18 or korey@fergusfallsymca.org with any questions.</span><br />\n<br />\n<em><span style="font-size: 10px\;">Shirts must be ordered by August 1st </span></em></div>\n
LOCATION:Minnesota State Community & Technical College 1414 College Way\, Fergus Falls\,
UID:e.314.50308
SEQUENCE:3
DTSTAMP:20260423T181121Z
URL:https://business.fergusfalls.com/events/details/ymca-family-adventure-run-50308
END:VEVENT

END:VCALENDAR
