BEGIN:VCALENDAR
VERSION:2.0
PRODID:-//ChamberMaster//Event Calendar 2.0//EN
METHOD:PUBLISH
X-PUBLISHED-TTL:P3D
REFRESH-INTERVAL:P3D
CALSCALE:GREGORIAN
BEGIN:VEVENT
DTSTART:20180420T230000Z
DTEND:20180421T010000Z
X-MICROSOFT-CDO-ALLDAYEVENT:FALSE
SUMMARY:YMCA Family Fun Night
DESCRIPTION:Bring your family to the YMCA for Family Fun Night! Enjoy spending time together while engaged in crafts\, swimming\, fitness\, sports and games.
X-ALT-DESC;FMTTYPE=text/html:<span style="font-size:14px"><span style="font-family:verdana">Bring your family to the YMCA for Family Fun Night! Enjoy spending time together while engaged in crafts\, swimming\, fitness\, sports and games.&nbsp\;</span></span>
LOCATION:Fergus Falls Area Family YMCA 1164 N. Friberg Avenue Fergus Falls\, MN 56537
UID:e.314.43578
SEQUENCE:3
DTSTAMP:20260423T235521Z
URL:https://business.fergusfalls.com/events/details/ymca-family-fun-night-04-20-2018-43578
END:VEVENT

END:VCALENDAR
