BEGIN:VCALENDAR
VERSION:2.0
PRODID:-//ChamberMaster//Event Calendar 2.0//EN
METHOD:PUBLISH
X-PUBLISHED-TTL:P3D
REFRESH-INTERVAL:P3D
CALSCALE:GREGORIAN
BEGIN:VEVENT
DTSTART:20160603T230000Z
DTEND:20160604T010000Z
X-MICROSOFT-CDO-ALLDAYEVENT:FALSE
SUMMARY:YMCA Healthy Eating Healthy Living
DESCRIPTION:The Fergus Falls Area Family YMCA Presents: Eating for Optimal Health - Whole Food Plant Based Lifestyle. Taught by Elisha & Tim Griffin.
X-ALT-DESC;FMTTYPE=text/html:The Fergus Falls Area Family YMCA Presents: Eating for Optimal Health - Whole Food Plant Based Lifestyle. Taught by Elisha &amp\; Tim Griffin.&nbsp\;
LOCATION:Fergus Falls Area Family YMCA
UID:e.314.32769
SEQUENCE:3
DTSTAMP:20260425T130937Z
URL:https://business.fergusfalls.com/events/details/ymca-healthy-eating-healthy-living-06-03-2016-32769
END:VEVENT

END:VCALENDAR
