BEGIN:VCALENDAR
VERSION:2.0
PRODID:-//ChamberMaster//Event Calendar 2.0//EN
METHOD:PUBLISH
X-PUBLISHED-TTL:P3D
REFRESH-INTERVAL:P3D
CALSCALE:GREGORIAN
BEGIN:VEVENT
DTSTART:20160727T000000Z
DTEND:20160727T013000Z
X-MICROSOFT-CDO-ALLDAYEVENT:FALSE
SUMMARY:YMCA Healthy Eating Healthy Living
DESCRIPTION:The Fergus Falls Area Family YMCA Presents: Low Sodium Barbecuing - taught by Scott Meldahl. Please stop by or contact Member Services to reserve your spot today!
X-ALT-DESC;FMTTYPE=text/html:The Fergus Falls Area Family YMCA Presents: Low Sodium Barbecuing - taught by Scott Meldahl. Please stop by or contact Member Services to reserve your spot today!
LOCATION:The Fergus Falls Area Family YMCA
UID:e.314.32770
SEQUENCE:3
DTSTAMP:20260425T130157Z
URL:https://business.fergusfalls.com/events/details/ymca-healthy-eating-healthy-living-07-26-2016-32770
END:VEVENT

END:VCALENDAR
