BEGIN:VCALENDAR
VERSION:2.0
PRODID:-//ChamberMaster//Event Calendar 2.0//EN
METHOD:PUBLISH
X-PUBLISHED-TTL:P3D
REFRESH-INTERVAL:P3D
CALSCALE:GREGORIAN
BEGIN:VEVENT
DTSTART:20180728T130000Z
DTEND:20180728T170000Z
X-MICROSOFT-CDO-ALLDAYEVENT:FALSE
SUMMARY:YMCA Hoot Lake Triathlon
DESCRIPTION:The 26th Annual Hoot Lake Triathlon is a sprint distance triathlon. 1/4 mile Swim\, 15.7 mile Bike\, 3.3 mile Run. Participate as an individual or as a team!
X-ALT-DESC;FMTTYPE=text/html:<div class="_63ew" data-testid="event-permalink-details"><span>The 26th Annual Hoot Lake Triathlon is a sprint distance triathlon. 1/4 mile Swim\, 15.7 mile Bike\, 3.3 mile Run. Participate as an individual or as a team!</span></div>\n
LOCATION:
UID:e.314.49991
SEQUENCE:3
DTSTAMP:20260424T130807Z
URL:https://business.fergusfalls.com/events/details/ymca-hoot-lake-triathlon-49991
END:VEVENT

END:VCALENDAR
