BEGIN:VCALENDAR
VERSION:2.0
PRODID:-//ChamberMaster//Event Calendar 2.0//EN
METHOD:PUBLISH
X-PUBLISHED-TTL:P3D
REFRESH-INTERVAL:P3D
CALSCALE:GREGORIAN
BEGIN:VEVENT
DTSTART:20161206T000000Z
DTEND:20161220T004500Z
X-MICROSOFT-CDO-ALLDAYEVENT:FALSE
SUMMARY:YMCA- Itty Bitty Sports
DESCRIPTION:YMCA - Itty Bitty Sports- Floor Hockey \n\nAges 3-5 year olds
X-ALT-DESC;FMTTYPE=text/html:YMCA - Itty Bitty Sports- Floor Hockey&nbsp\;<br />\nAges 3-5 year olds
LOCATION:Fergus Falls Area Family YMCA 1164 N Friberg Ave. Fergus Falls MN 56537
UID:e.314.37001
SEQUENCE:3
DTSTAMP:20260425T021820Z
URL:https://business.fergusfalls.com/events/details/ymca-itty-bitty-sports-37001
END:VEVENT

END:VCALENDAR
