BEGIN:VCALENDAR
VERSION:2.0
PRODID:-//ChamberMaster//Event Calendar 2.0//EN
METHOD:PUBLISH
X-PUBLISHED-TTL:P3D
REFRESH-INTERVAL:P3D
CALSCALE:GREGORIAN
BEGIN:VEVENT
DTSTART;VALUE=DATE:20161202
DTEND;VALUE=DATE:20161203
TRANSP:TRANSPARENT
X-MICROSOFT-CDO-ALLDAYEVENT:TRUE
SUMMARY:YMCA Let's Move- Homeschool Gym & Swim
DESCRIPTION:Homeschool Gym & Swim\n\nKids ages 5-18 years old \n\nFriday's 2:15pm-3:30pm\n\nMonthly sessions available check out website for more details.
X-ALT-DESC;FMTTYPE=text/html:Homeschool Gym &amp\; Swim<br />\nKids ages 5-18 years old&nbsp\;<br />\nFriday&#39\;s 2:15pm-3:30pm<br />\nMonthly sessions available check out website for more details.
LOCATION:YMCA 1164 N Friberg Ave. Fergus Falls MN 56537
UID:e.314.37003
SEQUENCE:3
DTSTAMP:20260425T035250Z
URL:https://business.fergusfalls.com/events/details/ymca-let-s-move-homeschool-gym-swim-37003
END:VEVENT

END:VCALENDAR
