BEGIN:VCALENDAR
VERSION:2.0
PRODID:-//ChamberMaster//Event Calendar 2.0//EN
METHOD:PUBLISH
X-PUBLISHED-TTL:P3D
REFRESH-INTERVAL:P3D
CALSCALE:GREGORIAN
BEGIN:VEVENT
DTSTART:20161207T000000Z
DTEND:20161207T020000Z
X-MICROSOFT-CDO-ALLDAYEVENT:FALSE
SUMMARY:YMCA - Men's Basketball League
DESCRIPTION:YMCA - Men's Basketball League\n\nTeams can have up to 10 players on Roster\n\nVolunteer Referee's are needed
X-ALT-DESC;FMTTYPE=text/html:YMCA - Men&#39\;s Basketball League<br />\nTeams can have up to 10 players on Roster<br />\nVolunteer Referee&#39\;s are needed
LOCATION:YMCA 1164 N Friberg Ave. Fergus Falls MN 56537
UID:e.314.37004
SEQUENCE:3
DTSTAMP:20260425T022030Z
URL:https://business.fergusfalls.com/events/details/ymca-men-s-basketball-league-37004
END:VEVENT

END:VCALENDAR
