BEGIN:VCALENDAR
VERSION:2.0
PRODID:-//ChamberMaster//Event Calendar 2.0//EN
METHOD:PUBLISH
X-PUBLISHED-TTL:P3D
REFRESH-INTERVAL:P3D
CALSCALE:GREGORIAN
BEGIN:VEVENT
DTSTART:20170101T020000Z
DTEND:20170101T140000Z
X-MICROSOFT-CDO-ALLDAYEVENT:FALSE
SUMMARY:YMCA New Years Youth Lock In
DESCRIPTION:Ring in the New Year\n\nNew Years Youth Lock In! \n\nParental consent is required upon sign-in and pick up for the event. \n\nVollyball-Movies-Games-Basketball-Swimming-Pizza and Pop
X-ALT-DESC;FMTTYPE=text/html:<span style="font-family:tahoma\;"><strong>Ring in the New Year<br />\nNew Years Youth Lock In!&nbsp\;</strong></span><br />\n<span style="font-family:tahoma\;">Parental consent is required upon sign-in and pick up for the event.&nbsp\;<br />\nVollyball-Movies-Games-Basketball-Swimming-Pizza and Pop&nbsp\;</span>
LOCATION:The YMCA 1164 Friberg Ave. Fergus Falls MN 56537
UID:e.314.37228
SEQUENCE:3
DTSTAMP:20260425T003105Z
URL:https://business.fergusfalls.com/events/details/ymca-new-years-youth-lock-in-37228
END:VEVENT

END:VCALENDAR
