BEGIN:VCALENDAR
VERSION:2.0
PRODID:-//ChamberMaster//Event Calendar 2.0//EN
METHOD:PUBLISH
X-PUBLISHED-TTL:P3D
REFRESH-INTERVAL:P3D
CALSCALE:GREGORIAN
BEGIN:VEVENT
DTSTART;VALUE=DATE:20170106
DTEND;VALUE=DATE:20170107
TRANSP:TRANSPARENT
X-MICROSOFT-CDO-ALLDAYEVENT:TRUE
SUMMARY:YMCA- Winter Youth Basketball
DESCRIPTION:YMCA Shoot For Greatness\n\nWinter Youth Basketball\n\nPreschool (age 3) -4th grade
X-ALT-DESC;FMTTYPE=text/html:YMCA Shoot For Greatness<br />\nWinter Youth Basketball<br />\nPreschool (age 3) -4th grade<br />\n<br />\n<br />\n&nbsp\;
LOCATION:Fergus Falls Area Family YMCA 1164 N Friberg Ave Fergus Falls MN 56537
UID:e.314.37002
SEQUENCE:3
DTSTAMP:20260425T003245Z
URL:https://business.fergusfalls.com/events/details/ymca-winter-youth-basketball-37002
END:VEVENT

END:VCALENDAR
